BEGIN:VCALENDAR
VERSION:2.0
PRODID:Imitheme.com
BEGIN:VEVENT
UID:20260422T063414-506742016
DTSTAMP;TZID=UTC:1776839654
DTSTART:20260422T063414Z
DTEND:19700101T000000Z
SUMMARY:8th Annual Family Day at Bridgeport City Park
LOCATION:Bridgeport City Park
DESCRIPTION: June 11 (rain date June 16) TENTATIVE DATES

Cecil Jarvis Greater Clarksburg 10K

8:30 a.m.-12 p.m. Sat., June 20

Downtown Clarksburg
END:VEVENT
END:VCALENDAR
